BEGIN:VCALENDAR
VERSION:2.0
PRODID:-//GregShirleyMusic - ECPv6.10.2//NONSGML v1.0//EN
CALSCALE:GREGORIAN
METHOD:PUBLISH
X-WR-CALNAME:GregShirleyMusic
X-ORIGINAL-URL:https://gregshirleymusic.com
X-WR-CALDESC:Events for GregShirleyMusic
REFRESH-INTERVAL;VALUE=DURATION:PT1H
X-Robots-Tag:noindex
X-PUBLISHED-TTL:PT1H
BEGIN:VTIMEZONE
TZID:Pacific/Honolulu
BEGIN:STANDARD
TZOFFSETFROM:-1000
TZOFFSETTO:-1000
TZNAME:HST
DTSTART:20250101T000000
END:STANDARD
END:VTIMEZONE
BEGIN:VEVENT
DTSTART;TZID=Pacific/Honolulu:20250626T170000
DTEND;TZID=Pacific/Honolulu:20250626T210000
DTSTAMP:20260420T234528
CREATED:20250618T184430Z
LAST-MODIFIED:20250618T184430Z
UID:449-1750957200-1750971600@gregshirleymusic.com
SUMMARY:Sabroso at Happiness in Kona
DESCRIPTION:Tasty Latin grooves for your listening and dancing pleasure.\nRhumba\, Cha Cha\, Bachata\, Cumbia\, Salsa and more
URL:https://gregshirleymusic.com/event/sabroso-at-happiness-in-kona-3/
LOCATION:Happiness\, 75-5699 Alii Dr\, Kailua Kona\, HI\, 96740\, United States
CATEGORIES:Sabroso Gig
ATTACH;FMTTYPE=image/jpeg:https://gregshirleymusic.com/wp-content/uploads/2025/03/IMG_2577-scaled.jpeg
END:VEVENT
BEGIN:VEVENT
DTSTART;TZID=Pacific/Honolulu:20250816T180000
DTEND;TZID=Pacific/Honolulu:20250816T210000
DTSTAMP:20260420T234528
CREATED:20250804T080330Z
LAST-MODIFIED:20250804T080330Z
UID:475-1755367200-1755378000@gregshirleymusic.com
SUMMARY:Sabroso at Kona Elks Lodge
DESCRIPTION:Tasty Latin grooves for your listening and dancing pleasure.\nRhumba\, Cha Cha\, Bachata\, Cumbia\, Salsa and more
URL:https://gregshirleymusic.com/event/sabroso-at-kona-elks-lodge-5/
LOCATION:HILO Elks Lodge
CATEGORIES:Sabroso Gig
ATTACH;FMTTYPE=image/jpeg:https://gregshirleymusic.com/wp-content/uploads/2025/03/IMG_2577-scaled.jpeg
END:VEVENT
END:VCALENDAR