BEGIN:VCALENDAR
VERSION:2.0
PRODID:-//GregShirleyMusic - ECPv6.10.2//NONSGML v1.0//EN
CALSCALE:GREGORIAN
METHOD:PUBLISH
X-ORIGINAL-URL:https://gregshirleymusic.com
X-WR-CALDESC:Events for GregShirleyMusic
REFRESH-INTERVAL;VALUE=DURATION:PT1H
X-Robots-Tag:noindex
X-PUBLISHED-TTL:PT1H
BEGIN:VTIMEZONE
TZID:Pacific/Honolulu
BEGIN:STANDARD
TZOFFSETFROM:-1000
TZOFFSETTO:-1000
TZNAME:HST
DTSTART:20250101T000000
END:STANDARD
END:VTIMEZONE
BEGIN:VEVENT
DTSTART;TZID=Pacific/Honolulu:20250208T180000
DTEND;TZID=Pacific/Honolulu:20250208T210000
DTSTAMP:20260420T185148
CREATED:20250131T201856Z
LAST-MODIFIED:20250131T201856Z
UID:361-1739037600-1739048400@gregshirleymusic.com
SUMMARY:Sabroso @Pancho & Lefty’s
DESCRIPTION:Greg Shirley’s Latin band playing tunes to sway to!
URL:https://gregshirleymusic.com/event/sabroso-pancho-leftys/
LOCATION:Pancho & Lefty’s Cantina\, 75-5725 Alii Drive\, Kailua Kona\, HI\, 96740
CATEGORIES:Sabroso Gig
ATTACH;FMTTYPE=image/jpeg:https://gregshirleymusic.com/wp-content/uploads/2024/12/IMG_2002.jpeg
END:VEVENT
END:VCALENDAR