BEGIN:VCALENDAR
VERSION:2.0
PRODID:-//GregShirleyMusic - ECPv6.10.2//NONSGML v1.0//EN
CALSCALE:GREGORIAN
METHOD:PUBLISH
X-ORIGINAL-URL:https://gregshirleymusic.com
X-WR-CALDESC:Events for GregShirleyMusic
REFRESH-INTERVAL;VALUE=DURATION:PT1H
X-Robots-Tag:noindex
X-PUBLISHED-TTL:PT1H
BEGIN:VTIMEZONE
TZID:Pacific/Honolulu
BEGIN:STANDARD
TZOFFSETFROM:-1000
TZOFFSETTO:-1000
TZNAME:HST
DTSTART:20240101T000000
END:STANDARD
END:VTIMEZONE
BEGIN:VTIMEZONE
TZID:UTC
BEGIN:STANDARD
TZOFFSETFROM:+0000
TZOFFSETTO:+0000
TZNAME:UTC
DTSTART:20240101T000000
END:STANDARD
END:VTIMEZONE
BEGIN:VEVENT
DTSTART;TZID=Pacific/Honolulu:20241212T180000
DTEND;TZID=Pacific/Honolulu:20241212T210000
DTSTAMP:20260420T211228
CREATED:20241202T015618Z
LAST-MODIFIED:20241202T015618Z
UID:291-1734026400-1734037200@gregshirleymusic.com
SUMMARY:Sabroso
DESCRIPTION:Latin tunes for Senoritas & Senors who can sway!
URL:https://gregshirleymusic.com/event/sabroso-5/
LOCATION:Willie’s Hot Chicken\, 74-5599 Pawai Place\, Kailua-Kona\, HI\, 96740\, United States
CATEGORIES:Sabroso Gig
ATTACH;FMTTYPE=image/jpeg:https://gregshirleymusic.com/wp-content/uploads/2024/12/IMG_2002.jpeg
END:VEVENT
BEGIN:VEVENT
DTSTART;TZID=Pacific/Honolulu:20241226T180000
DTEND;TZID=Pacific/Honolulu:20241226T210000
DTSTAMP:20260420T211228
CREATED:20241202T022606Z
LAST-MODIFIED:20241202T022606Z
UID:308-1735236000-1735246800@gregshirleymusic.com
SUMMARY:Sabroso
DESCRIPTION:Latin tunes for Senoritas & Senors who can sway!
URL:https://gregshirleymusic.com/event/sabroso-6/
LOCATION:Pancho & Lefty’s Cantina\, 75-5725 Alii Drive\, Kailua Kona\, HI\, 96740
CATEGORIES:Sabroso Gig
ATTACH;FMTTYPE=image/jpeg:https://gregshirleymusic.com/wp-content/uploads/2024/12/IMG_2002.jpeg
END:VEVENT
BEGIN:VEVENT
DTSTART;TZID=UTC:20241228T190000
DTEND;TZID=UTC:20241228T220000
DTSTAMP:20260420T211228
CREATED:20241202T023235Z
LAST-MODIFIED:20241202T023235Z
UID:312-1735412400-1735423200@gregshirleymusic.com
SUMMARY:Sabroso
DESCRIPTION:Latin tunes for Senoritas & Senors who can sway!
URL:https://gregshirleymusic.com/event/sabroso-7/
LOCATION:Paradise Plants\, 40 Wiwoole St\, Hilo\, HI\, United States
CATEGORIES:Sabroso Gig
ATTACH;FMTTYPE=image/jpeg:https://gregshirleymusic.com/wp-content/uploads/2024/12/IMG_2002.jpeg
END:VEVENT
END:VCALENDAR