BEGIN:VCALENDAR
VERSION:2.0
PRODID:-//GregShirleyMusic - ECPv6.10.2//NONSGML v1.0//EN
CALSCALE:GREGORIAN
METHOD:PUBLISH
X-WR-CALNAME:GregShirleyMusic
X-ORIGINAL-URL:https://gregshirleymusic.com
X-WR-CALDESC:Events for GregShirleyMusic
REFRESH-INTERVAL;VALUE=DURATION:PT1H
X-Robots-Tag:noindex
X-PUBLISHED-TTL:PT1H
BEGIN:VTIMEZONE
TZID:Pacific/Honolulu
BEGIN:STANDARD
TZOFFSETFROM:-1000
TZOFFSETTO:-1000
TZNAME:HST
DTSTART:20240101T000000
END:STANDARD
END:VTIMEZONE
BEGIN:VTIMEZONE
TZID:UTC
BEGIN:STANDARD
TZOFFSETFROM:+0000
TZOFFSETTO:+0000
TZNAME:UTC
DTSTART:20240101T000000
END:STANDARD
END:VTIMEZONE
BEGIN:VEVENT
DTSTART;TZID=Pacific/Honolulu:20241114T180000
DTEND;TZID=Pacific/Honolulu:20241114T210000
DTSTAMP:20260420T222735
CREATED:20241107T014416Z
LAST-MODIFIED:20241107T015123Z
UID:251-1731607200-1731618000@gregshirleymusic.com
SUMMARY:Sabroso
DESCRIPTION:
URL:https://gregshirleymusic.com/event/sabroso-2/
LOCATION:Willie’s Hot Chicken\, 74-5599 Pawai Place\, Kailua-Kona\, HI\, 96740\, United States
CATEGORIES:Sabroso Gig
ATTACH;FMTTYPE=image/jpeg:https://gregshirleymusic.com/wp-content/uploads/2024/08/IMG_0884.jpg
END:VEVENT
BEGIN:VEVENT
DTSTART;TZID=Pacific/Honolulu:20241122T180000
DTEND;TZID=Pacific/Honolulu:20241122T210000
DTSTAMP:20260420T222735
CREATED:20241107T015726Z
LAST-MODIFIED:20241107T015726Z
UID:259-1732298400-1732309200@gregshirleymusic.com
SUMMARY:Sabroso
DESCRIPTION:Dance the night away with Senor’s & Senorita’s who can sway! \nFREE VALIDATED PARKING!
URL:https://gregshirleymusic.com/event/sabroso-4/
LOCATION:Pancho & Lefty’s Cantina\, 75-5725 Alii Drive\, Kailua Kona\, HI\, 96740
CATEGORIES:Sabroso Gig
ATTACH;FMTTYPE=image/jpeg:https://gregshirleymusic.com/wp-content/uploads/2024/08/IMG_0884.jpg
END:VEVENT
BEGIN:VEVENT
DTSTART;TZID=UTC:20241123T190000
DTEND;TZID=UTC:20241123T220000
DTSTAMP:20260420T222735
CREATED:20241107T014555Z
LAST-MODIFIED:20241118T180658Z
UID:253-1732388400-1732399200@gregshirleymusic.com
SUMMARY:Sabroso
DESCRIPTION:
URL:https://gregshirleymusic.com/event/sabroso-3/
LOCATION:Paradise Plants\, 40 Wiwoole St\, Hilo\, HI\, United States
CATEGORIES:Sabroso Gig
ATTACH;FMTTYPE=image/jpeg:https://gregshirleymusic.com/wp-content/uploads/2024/08/IMG_0884.jpg
END:VEVENT
END:VCALENDAR