BEGIN:VCALENDAR
VERSION:2.0
PRODID:-//GregShirleyMusic - ECPv6.10.2//NONSGML v1.0//EN
CALSCALE:GREGORIAN
METHOD:PUBLISH
X-ORIGINAL-URL:https://gregshirleymusic.com
X-WR-CALDESC:Events for GregShirleyMusic
REFRESH-INTERVAL;VALUE=DURATION:PT1H
X-Robots-Tag:noindex
X-PUBLISHED-TTL:PT1H
BEGIN:VTIMEZONE
TZID:Pacific/Honolulu
BEGIN:STANDARD
TZOFFSETFROM:-1000
TZOFFSETTO:-1000
TZNAME:HST
DTSTART:20240101T000000
END:STANDARD
END:VTIMEZONE
BEGIN:VEVENT
DTSTART;TZID=Pacific/Honolulu:20241208T170000
DTEND;TZID=Pacific/Honolulu:20241208T200000
DTSTAMP:20260420T200931
CREATED:20241202T015100Z
LAST-MODIFIED:20241202T015100Z
UID:289-1733677200-1733688000@gregshirleymusic.com
SUMMARY:HI Country Rock
DESCRIPTION:A boot scootin good time!
URL:https://gregshirleymusic.com/event/hi-country-rock-2/
LOCATION:Willie’s Hot Chicken\, 74-5599 Pawai Place\, Kailua-Kona\, HI\, 96740\, United States
CATEGORIES:HI Country
ATTACH;FMTTYPE=image/jpeg:https://gregshirleymusic.com/wp-content/uploads/2024/08/HiCountry.jpg
END:VEVENT
END:VCALENDAR