BEGIN:VCALENDAR
VERSION:2.0
PRODID:-//GregShirleyMusic - ECPv6.10.2//NONSGML v1.0//EN
CALSCALE:GREGORIAN
METHOD:PUBLISH
X-WR-CALNAME:GregShirleyMusic
X-ORIGINAL-URL:https://gregshirleymusic.com
X-WR-CALDESC:Events for GregShirleyMusic
REFRESH-INTERVAL;VALUE=DURATION:PT1H
X-Robots-Tag:noindex
X-PUBLISHED-TTL:PT1H
BEGIN:VTIMEZONE
TZID:Pacific/Honolulu
BEGIN:STANDARD
TZOFFSETFROM:-1000
TZOFFSETTO:-1000
TZNAME:HST
DTSTART:20250101T000000
END:STANDARD
END:VTIMEZONE
BEGIN:VEVENT
DTSTART;TZID=Pacific/Honolulu:20250831T173000
DTEND;TZID=Pacific/Honolulu:20250831T210000
DTSTAMP:20260420T080913
CREATED:20250804T081307Z
LAST-MODIFIED:20250804T081307Z
UID:487-1756661400-1756674000@gregshirleymusic.com
SUMMARY:Greg Shirley @Tommy Bahama’s
DESCRIPTION:Greg playing all your favorite tunes!
URL:https://gregshirleymusic.com/event/greg-shirley-tommy-bahamas-15/
LOCATION:Tommy Bahama’s\, 250 Waikoloa Beach Drive\, Waikoloa\, 96738\, United States
CATEGORIES:Greg Shirley Solo Guitar/Vocals
ATTACH;FMTTYPE=image/jpeg:https://gregshirleymusic.com/wp-content/uploads/2024/08/Greg-Circle-Pic.jpg
END:VEVENT
BEGIN:VEVENT
DTSTART;TZID=Pacific/Honolulu:20250919T170000
DTEND;TZID=Pacific/Honolulu:20250919T210000
DTSTAMP:20260420T080913
CREATED:20250917T085001Z
LAST-MODIFIED:20250917T085001Z
UID:493-1758301200-1758315600@gregshirleymusic.com
SUMMARY:Greg Shirley @King Kamehameha Billfish Bar
DESCRIPTION:Greg playing all your favorite tunes!
URL:https://gregshirleymusic.com/event/greg-shirley-king-kamehameha-billfish-bar-1/
LOCATION:King Kamehameha Billfish Bar\, 75-5660 Palani Rd\, Kailua Kona\, HI\, 96740\, United States
CATEGORIES:Greg Shirley Solo Guitar/Vocals
ATTACH;FMTTYPE=image/jpeg:https://gregshirleymusic.com/wp-content/uploads/2024/08/Greg-Circle-Pic.jpg
END:VEVENT
BEGIN:VEVENT
DTSTART;TZID=Pacific/Honolulu:20250920T100000
DTEND;TZID=Pacific/Honolulu:20250920T130000
DTSTAMP:20260420T080913
CREATED:20250917T090149Z
LAST-MODIFIED:20250917T090149Z
UID:506-1758362400-1758373200@gregshirleymusic.com
SUMMARY:Greg Shirley Solo @ Happiness Kona
DESCRIPTION:Greg playing all your favorite tunes!
URL:https://gregshirleymusic.com/event/greg-shirley-solo-happiness-kona-2/
LOCATION:Happiness
CATEGORIES:Greg Shirley Solo Guitar/Vocals
ATTACH;FMTTYPE=image/jpeg:https://gregshirleymusic.com/wp-content/uploads/2024/08/Greg-Circle-Pic.jpg
END:VEVENT
BEGIN:VEVENT
DTSTART;TZID=Pacific/Honolulu:20250924T173000
DTEND;TZID=Pacific/Honolulu:20250924T210000
DTSTAMP:20260420T080913
CREATED:20250917T085619Z
LAST-MODIFIED:20250917T085619Z
UID:500-1758735000-1758747600@gregshirleymusic.com
SUMMARY:Greg Shirley @Tommy Bahama’s
DESCRIPTION:Greg playing all your favorite tunes!
URL:https://gregshirleymusic.com/event/greg-shirley-tommy-bahamas-16/
LOCATION:Tommy Bahama’s\, 250 Waikoloa Beach Drive\, Waikoloa\, 96738\, United States
CATEGORIES:Greg Shirley Solo Guitar/Vocals
ATTACH;FMTTYPE=image/jpeg:https://gregshirleymusic.com/wp-content/uploads/2024/08/Greg-Circle-Pic.jpg
END:VEVENT
BEGIN:VEVENT
DTSTART;TZID=Pacific/Honolulu:20250928T173000
DTEND;TZID=Pacific/Honolulu:20250928T210000
DTSTAMP:20260420T080913
CREATED:20250917T090358Z
LAST-MODIFIED:20250917T090358Z
UID:510-1759080600-1759093200@gregshirleymusic.com
SUMMARY:Greg Shirley @Tommy Bahama’s
DESCRIPTION:Greg playing all your favorite tunes!
URL:https://gregshirleymusic.com/event/greg-shirley-tommy-bahamas-17/
LOCATION:Tommy Bahama’s\, 250 Waikoloa Beach Drive\, Waikoloa\, 96738\, United States
CATEGORIES:Greg Shirley Solo Guitar/Vocals
ATTACH;FMTTYPE=image/jpeg:https://gregshirleymusic.com/wp-content/uploads/2024/08/Greg-Circle-Pic.jpg
END:VEVENT
END:VCALENDAR