BEGIN:VCALENDAR
VERSION:2.0
PRODID:-//GregShirleyMusic - ECPv6.10.2//NONSGML v1.0//EN
CALSCALE:GREGORIAN
METHOD:PUBLISH
X-WR-CALNAME:GregShirleyMusic
X-ORIGINAL-URL:https://gregshirleymusic.com
X-WR-CALDESC:Events for GregShirleyMusic
REFRESH-INTERVAL;VALUE=DURATION:PT1H
X-Robots-Tag:noindex
X-PUBLISHED-TTL:PT1H
BEGIN:VTIMEZONE
TZID:UTC
BEGIN:STANDARD
TZOFFSETFROM:+0000
TZOFFSETTO:+0000
TZNAME:UTC
DTSTART:20250101T000000
END:STANDARD
END:VTIMEZONE
BEGIN:VEVENT
DTSTART;TZID=UTC:20250510T170000
DTEND;TZID=UTC:20250510T190000
DTSTAMP:20260420T200720
CREATED:20250323T004334Z
LAST-MODIFIED:20250323T004334Z
UID:401-1746896400-1746903600@gregshirleymusic.com
SUMMARY:Greg Shirley with JP on Sax at Volcano Arts Center
DESCRIPTION:This concert presented by JP\, Jean Pierre Toma\, will emulate the sultry tones of Paul Desmond and Jim Hall collaborations. \nWonderful tasty Jazz featuring Sax\, Flute and Guitar with Bass and Drums
URL:https://gregshirleymusic.com/event/greg-shirley-with-jp-on-sax-at-volcano-arts-center/
LOCATION:Volcano Art Center\, 19-4074 Old Volcano Road Volcano\, Volcano\, HI\, 96785\, United States
CATEGORIES:Greg Shirley Jazz
ATTACH;FMTTYPE=image/jpeg:https://gregshirleymusic.com/wp-content/uploads/2024/11/IMG_8632.jpeg
END:VEVENT
END:VCALENDAR