BEGIN:VCALENDAR
VERSION:2.0
PRODID:-//GregShirleyMusic - ECPv6.10.2//NONSGML v1.0//EN
CALSCALE:GREGORIAN
METHOD:PUBLISH
X-ORIGINAL-URL:https://gregshirleymusic.com
X-WR-CALDESC:Events for GregShirleyMusic
REFRESH-INTERVAL;VALUE=DURATION:PT1H
X-Robots-Tag:noindex
X-PUBLISHED-TTL:PT1H
BEGIN:VTIMEZONE
TZID:Pacific/Honolulu
BEGIN:STANDARD
TZOFFSETFROM:-1000
TZOFFSETTO:-1000
TZNAME:HST
DTSTART:20240101T000000
END:STANDARD
END:VTIMEZONE
BEGIN:VEVENT
DTSTART;TZID=Pacific/Honolulu:20241214T173000
DTEND;TZID=Pacific/Honolulu:20241214T193000
DTSTAMP:20260421T023414
CREATED:20241202T021118Z
LAST-MODIFIED:20241202T021118Z
UID:294-1734197400-1734204600@gregshirleymusic.com
SUMMARY:Jazz in the Forrest - Holiday Spirit
DESCRIPTION:The Volcano Art Center’s Jazz in the Forest series continues on Saturday\, December 14\, 2024 at 5:30pm at Volcano Art Center Niaulani Campus in Volcano Village. The evening features  Jean Pierre Thoma and the Jazztones.\n \nAs we come to the end of this long and winding year\, let us join together in appreciation and gratitude for the roads we have traveled together as well as separately\, and now we come together again at the Volcano Art Center on December 14 \, at 5:30 to share good cheer and opportunities for the future.\n\nThis Holiday Spirit will include seasonal music of worldwide cultures that invite us to sing and dance together\, along with some celestial as well as earthly incantations.\n\nYou are invited to join THE JAZZTONES\, featuring  Jean Pierre – JP Thoma on saxophones; Jeannine Guillory-Kane lifting our spirits with vocals;  Greg Shirley on guitar and banjo; Shawn James on acoustic and electric bass; and Owen Matsui on percussion\, for an evening of Holiday Bliss.
URL:https://gregshirleymusic.com/event/jazz-in-the-forrest-holiday-spirit/
LOCATION:Volcano Art Center\, 19-4074 Old Volcano Road Volcano\, Volcano\, HI\, 96785\, United States
CATEGORIES:Greg Shirley Jazz
ATTACH;FMTTYPE=image/png:https://gregshirleymusic.com/wp-content/uploads/2024/12/IMG_0156.png
END:VEVENT
BEGIN:VEVENT
DTSTART;TZID=Pacific/Honolulu:20241221T180000
DTEND;TZID=Pacific/Honolulu:20241221T210000
DTSTAMP:20260421T023414
CREATED:20241202T022314Z
LAST-MODIFIED:20241202T022314Z
UID:302-1734804000-1734814800@gregshirleymusic.com
SUMMARY:Greg Shirley Jazz Quartet
DESCRIPTION:Greg Shirley Jazz Quartet playing all your favorite Jazz & holiday tunes. Wear your dance shoes!
URL:https://gregshirleymusic.com/event/greg-shirley-jazz-quartet/
LOCATION:Queen’s Shop’s Pavillion\, 69-201 Waikoloa Beach Drive\, Waikoloa\, 96738\, United States
CATEGORIES:Greg Shirley Jazz
ATTACH;FMTTYPE=image/jpeg:https://gregshirleymusic.com/wp-content/uploads/2024/12/IMG_0157-scaled.jpeg
END:VEVENT
END:VCALENDAR