BEGIN:VCALENDAR
VERSION:2.0
PRODID:-//GregShirleyMusic - ECPv6.10.2//NONSGML v1.0//EN
CALSCALE:GREGORIAN
METHOD:PUBLISH
X-ORIGINAL-URL:https://gregshirleymusic.com
X-WR-CALDESC:Events for GregShirleyMusic
REFRESH-INTERVAL;VALUE=DURATION:PT1H
X-Robots-Tag:noindex
X-PUBLISHED-TTL:PT1H
BEGIN:VTIMEZONE
TZID:Pacific/Honolulu
BEGIN:STANDARD
TZOFFSETFROM:-1000
TZOFFSETTO:-1000
TZNAME:HST
DTSTART:20240101T000000
END:STANDARD
END:VTIMEZONE
BEGIN:VEVENT
DTSTART;TZID=Pacific/Honolulu:20241202T173000
DTEND;TZID=Pacific/Honolulu:20241202T210000
DTSTAMP:20260421T010958
CREATED:20241202T013943Z
LAST-MODIFIED:20241202T013943Z
UID:283-1733160600-1733173200@gregshirleymusic.com
SUMMARY:Greg Shirley Jazz Guitar
DESCRIPTION:Greg Shirley playing all your favorite Jazz & Pop tunes.
URL:https://gregshirleymusic.com/event/greg-shirley-jazz-guitar-7/
LOCATION:Tommy Bahama’s\, 250 Waikoloa Beach Drive\, Waikoloa\, 96738\, United States
CATEGORIES:Greg Shirley Jazz Guitar
ATTACH;FMTTYPE=image/jpeg:https://gregshirleymusic.com/wp-content/uploads/2024/08/Greg-Circle-Pic.jpg
END:VEVENT
BEGIN:VEVENT
DTSTART;TZID=Pacific/Honolulu:20241204T173000
DTEND;TZID=Pacific/Honolulu:20241204T210000
DTSTAMP:20260421T010958
CREATED:20241202T014302Z
LAST-MODIFIED:20241202T023329Z
UID:285-1733333400-1733346000@gregshirleymusic.com
SUMMARY:Greg Shirley Jazz Guitar
DESCRIPTION:Greg playing all your favorite Jazz & Pop tunes.
URL:https://gregshirleymusic.com/event/greg-shirley-jazz-guitar-8/
LOCATION:Tommy Bahama’s\, 250 Waikoloa Beach Drive\, Waikoloa\, 96738\, United States
CATEGORIES:Greg Shirley Jazz Guitar
ATTACH;FMTTYPE=image/jpeg:https://gregshirleymusic.com/wp-content/uploads/2024/08/Greg-Circle-Pic.jpg
END:VEVENT
BEGIN:VEVENT
DTSTART;TZID=Pacific/Honolulu:20241205T170000
DTEND;TZID=Pacific/Honolulu:20241205T200000
DTSTAMP:20260421T010958
CREATED:20241202T014657Z
LAST-MODIFIED:20241202T014657Z
UID:287-1733418000-1733428800@gregshirleymusic.com
SUMMARY:Greg Shirley Jazz Guitar
DESCRIPTION:Greg playing all your favorite Jazz & Pop tunes.
URL:https://gregshirleymusic.com/event/greg-shirley-jazz-guitar-9/
LOCATION:Sunset Kai Lanai\, 78-6831 Alii Drive\, Kailua Kona\, HI\, 96740
CATEGORIES:Greg Shirley Jazz Guitar
ATTACH;FMTTYPE=image/jpeg:https://gregshirleymusic.com/wp-content/uploads/2024/08/Greg-Circle-Pic.jpg
END:VEVENT
BEGIN:VEVENT
DTSTART;TZID=Pacific/Honolulu:20241223T173000
DTEND;TZID=Pacific/Honolulu:20241223T210000
DTSTAMP:20260421T010958
CREATED:20241202T022849Z
LAST-MODIFIED:20241202T022849Z
UID:310-1734975000-1734987600@gregshirleymusic.com
SUMMARY:Greg Shirley Jazz Guitar
DESCRIPTION:Greg playing all your favorite Jazz & Pop tunes.
URL:https://gregshirleymusic.com/event/greg-shirley-jazz-guitar-10/
LOCATION:Tommy Bahama’s\, 250 Waikoloa Beach Drive\, Waikoloa\, 96738\, United States
CATEGORIES:Greg Shirley Jazz Guitar
ATTACH;FMTTYPE=image/jpeg:https://gregshirleymusic.com/wp-content/uploads/2024/08/Greg-Circle-Pic.jpg
END:VEVENT
END:VCALENDAR