BEGIN:VCALENDAR
VERSION:2.0
PRODID:-//GregShirleyMusic - ECPv6.10.2//NONSGML v1.0//EN
CALSCALE:GREGORIAN
METHOD:PUBLISH
X-WR-CALNAME:GregShirleyMusic
X-ORIGINAL-URL:https://gregshirleymusic.com
X-WR-CALDESC:Events for GregShirleyMusic
REFRESH-INTERVAL;VALUE=DURATION:PT1H
X-Robots-Tag:noindex
X-PUBLISHED-TTL:PT1H
BEGIN:VTIMEZONE
TZID:UTC
BEGIN:STANDARD
TZOFFSETFROM:+0000
TZOFFSETTO:+0000
TZNAME:UTC
DTSTART:20250101T000000
END:STANDARD
END:VTIMEZONE
BEGIN:VEVENT
DTSTART;TZID=UTC:20251001T173000
DTEND;TZID=UTC:20251001T193000
DTSTAMP:20260420T080417
CREATED:20250917T091346Z
LAST-MODIFIED:20250917T091346Z
UID:516-1759339800-1759347000@gregshirleymusic.com
SUMMARY:Darling Duo at Sunset Terrace
DESCRIPTION:Greg Shirley and Marlina Shirley perform all kinds of tunes all sunset long. Come enjoy poolside eats and drinks at this fine venue with ocean views
URL:https://gregshirleymusic.com/event/darling-duo-at-sunset-terrace-3/
LOCATION:Sunset Terrace
CATEGORIES:Darlin Duo
ATTACH;FMTTYPE=image/jpeg:https://gregshirleymusic.com/wp-content/uploads/2024/08/DuoWithMarlinaPic.jpg
END:VEVENT
BEGIN:VEVENT
DTSTART;TZID=UTC:20251008T173000
DTEND;TZID=UTC:20251008T193000
DTSTAMP:20260420T080417
CREATED:20250917T091416Z
LAST-MODIFIED:20250917T091416Z
UID:519-1759944600-1759951800@gregshirleymusic.com
SUMMARY:Darling Duo at Sunset Terrace
DESCRIPTION:Greg Shirley and Marlina Shirley perform all kinds of tunes all sunset long. Come enjoy poolside eats and drinks at this fine venue with ocean views
URL:https://gregshirleymusic.com/event/darling-duo-at-sunset-terrace/
LOCATION:Sunset Terrace
CATEGORIES:Darlin Duo
ATTACH;FMTTYPE=image/jpeg:https://gregshirleymusic.com/wp-content/uploads/2024/08/DuoWithMarlinaPic.jpg
END:VEVENT
BEGIN:VEVENT
DTSTART;TZID=UTC:20251029T173000
DTEND;TZID=UTC:20251029T193000
DTSTAMP:20260420T080417
CREATED:20250917T092238Z
LAST-MODIFIED:20250917T092238Z
UID:535-1761759000-1761766200@gregshirleymusic.com
SUMMARY:Darling Duo at Sunset Terrace
DESCRIPTION:Greg Shirley and Marlina Shirley perform all kinds of tunes all sunset long. Come enjoy poolside eats and drinks at this fine venue with ocean views
URL:https://gregshirleymusic.com/event/darling-duo-at-sunset-terrace-2/
LOCATION:Sunset Terrace
CATEGORIES:Darlin Duo
ATTACH;FMTTYPE=image/jpeg:https://gregshirleymusic.com/wp-content/uploads/2024/08/DuoWithMarlinaPic.jpg
END:VEVENT
END:VCALENDAR